2.438400000000
0.000000000000
0.000000000000
-2.438400000000
291727.565818535105
4653377.627110383470
