2.438400000000
0.000000000000
0.000000000000
-2.438400000000
737330.202155933832
4654713.189021147788
