2.438400000000
0.000000000000
0.000000000000
-2.438400000000
675214.230175466160
4652801.683427571319
