2.438400000000
0.000000000000
0.000000000000
-2.438400000000
592401.331742454900
4651096.077235634400
