2.438400000000
0.000000000000
0.000000000000
-2.438400000000
251680.762724963948
4696354.461831879802
