2.438400000000
0.000000000000
0.000000000000
-2.438400000000
735454.131665154709
4710236.571957566770
