2.438400000000
0.000000000000
0.000000000000
-2.438400000000
683360.217203812906
4736363.869719463400
