2.438400000000
0.000000000000
0.000000000000
-2.438400000000
632480.238805692530
4721223.002592527300
