2.438400000000
0.000000000000
0.000000000000
-2.438400000000
642442.159532026500
4735325.136631486000
