2.438400000000
0.000000000000
0.000000000000
-2.438400000000
550641.332567692385
4678367.701026736750
