2.438400000000
0.000000000000
0.000000000000
-2.438400000000
275478.811697242141
4792825.596111487590
