2.438400000000
0.000000000000
0.000000000000
-2.438400000000
327745.845454302325
4846870.580500188280
