2.438400000000
0.000000000000
0.000000000000
-2.438400000000
590556.907844352303
4789901.030304312706
