2.438400000000
0.000000000000
0.000000000000
-2.438400000000
640705.844070594176
4818619.024286103435
