2.438400000000
0.000000000000
0.000000000000
-2.438400000000
610163.561071264674
4831888.194438900799
