2.438400
0
0
-2.438400
599633.566466
4873404.225848
