2.438400000000
0.000000000000
0.000000000000
-2.438400000000
271588.780257010891
4973670.169511245564
