2.438400000000
0.000000000000
0.000000000000
-2.438400000000
673835.524127380922
5083480.062142701810
