2.438400000000
0.000000000000
0.000000000000
-2.438400000000
518507.879150504537
5122449.781701742671
