2.438400000000
0.000000000000
0.000000000000
-2.438400000000
470253.034325923828
5122445.876750316470
