2.438400000000
0.000000000000
0.000000000000
-2.438400000000
460591.810943845601
5122500.020983383990
