2.438400
0.000000
0.000000
-2.438400
365220.951961
5179435.947399
