2.438400
0.000000
0.000000
-2.438400
287228.668268
5153850.786132
