2.438400
0.000000
0.000000
-2.438400
600078.974973
4831700.919461
