2.438400
0.000000
0.000000
-2.438400
539107.202539
4831104.647565
