2.438400
0.000000
0.000000
-2.438400
548737.137998
4844933.294464
