2.438400
0.000000
0.000000
-2.438400
438285.545897
4844967.529253
