2.438400
0.000000
0.000000
-2.438400
428009.183501
4845038.728638
