2.438400
0.000000
0.000000
-2.438400
316665.443872
4819416.349826
