2.438400
0.000000
0.000000
-2.438400
720626.023033
4848700.001703
