2.438400
0.000000
0.000000
-2.438400
509234.458927
4886341.925706
