2.438400
0.000000
0.000000
-2.438400
449114.684163
4886499.905240
