2.438400
0.000000
0.000000
-2.438400
439470.828353
4928237.120071
