2.438400
0.000000
0.000000
-2.438400
359186.603555
4901693.447625
