2.438400
0.000000
0.000000
-2.438400
288717.498803
4889679.400894
