2.438400
0.000000
0.000000
-2.438400
450177.299804
5025352.171190
