2.438400
0.000000
0.000000
-2.438400
450720.225664
5094789.718348
