2.438400
0.000000
0.000000
-2.438400
410544.058543
4998009.586833
