2.438400
0.000000
0.000000
-2.438400
362311.201533
5054328.006473
