2.438400
0.000000
0.000000
-2.438400
702936.703886
5084408.731706
