2.438400
0.000000
0.000000
-2.438400
508832.983337
5150180.037588
