2.438400
0.000000
0.000000
-2.438400
499239.600655
5150158.291647
