2.438400
0.000000
0.000000
-2.438400
402634.833918
5123142.412860
