2.438400
0.000000
0.000000
-2.438400
393700.674687
5164970.640064
