2.438400
0.000000
0.000000
-2.438400
403734.404058
5192590.017608
