2.438400
0.000000
0.000000
-2.438400
384635.440735
5192926.159473
