2.438400
0.000000
0.000000
-2.438400
375373.556329
5207006.138645
