2.438400
0.000000
0.000000
-2.438400
267397.836494
5126775.111769
