2.438400
0.000000
0.000000
-2.438400
317211.091023
5180693.788706
