2.438400
0.000000
0.000000
-2.438400
307792.283488
5180987.487198
